BEGIN:VCALENDAR
VERSION:2.0
PRODID:-//Pale Fire Brewing Company - ECPv6.15.20//NONSGML v1.0//EN
CALSCALE:GREGORIAN
METHOD:PUBLISH
X-ORIGINAL-URL:https://www.palefirebrewing.com
X-WR-CALDESC:Events for Pale Fire Brewing Company
REFRESH-INTERVAL;VALUE=DURATION:PT1H
X-Robots-Tag:noindex
X-PUBLISHED-TTL:PT1H
BEGIN:VTIMEZONE
TZID:America/New_York
BEGIN:DAYLIGHT
TZOFFSETFROM:-0500
TZOFFSETTO:-0400
TZNAME:EDT
DTSTART:20250309T070000
END:DAYLIGHT
BEGIN:STANDARD
TZOFFSETFROM:-0400
TZOFFSETTO:-0500
TZNAME:EST
DTSTART:20251102T060000
END:STANDARD
BEGIN:DAYLIGHT
TZOFFSETFROM:-0500
TZOFFSETTO:-0400
TZNAME:EDT
DTSTART:20260308T070000
END:DAYLIGHT
BEGIN:STANDARD
TZOFFSETFROM:-0400
TZOFFSETTO:-0500
TZNAME:EST
DTSTART:20261101T060000
END:STANDARD
BEGIN:DAYLIGHT
TZOFFSETFROM:-0500
TZOFFSETTO:-0400
TZNAME:EDT
DTSTART:20270314T070000
END:DAYLIGHT
BEGIN:STANDARD
TZOFFSETFROM:-0400
TZOFFSETTO:-0500
TZNAME:EST
DTSTART:20271107T060000
END:STANDARD
END:VTIMEZONE
BEGIN:VEVENT
DTSTART;TZID=America/New_York:20260102T190000
DTEND;TZID=America/New_York:20260102T220000
DTSTAMP:20260422T222006
CREATED:20251113T170138Z
LAST-MODIFIED:20251113T170139Z
UID:10000994-1767380400-1767391200@www.palefirebrewing.com
SUMMARY:Nate Hadley
DESCRIPTION:<<<\nNate Hadley at Pale Fire Brewing Co.\nFriday\, January 2nd\n7PM\nFREE\nall ages\n>>> \nNate Hadley is a folk and Americana singer-songwriter based in Winchester\, VA\, blending modern songwriting with traditional folk instrumentation. \nInspired by the likes of Tyler Childers\, Jason Isbell\, and The Lumineers\, his rich and compelling voice brings his stories to life. Originally from West Virginia\, Nate showcases his Appalachian\nroots with bluegrass influences and authentic\, emotionally driven lyrics. \nNate’s debut EP\, “Burn My Heart\,” released December 2025\, with singles “Who you were” and the title track emerging as fan-favorites. The community around Nate’s music is steadily growing as he continues to deliver compelling performances across the East Coast.
URL:https://www.palefirebrewing.com/event/nate-hadley/
LOCATION:Pale Fire Brewing Co. – Harrisonburg\, 217 S Liberty St Ste 105\, Harrisonburg\, VA\, 22801\, United States
CATEGORIES:Harrisonburg,Live Music
ATTACH;FMTTYPE=image/png:https://www.palefirebrewing.com/wp-content/uploads/2025/11/Nate-Hadley.avif
ORGANIZER;CN="Pale Fire Brewing Co.":MAILTO:hello@palefirebrewing.com
END:VEVENT
END:VCALENDAR