BEGIN:VCALENDAR
VERSION:2.0
PRODID:-//Pale Fire Brewing Company - ECPv6.15.20//NONSGML v1.0//EN
CALSCALE:GREGORIAN
METHOD:PUBLISH
X-WR-CALNAME:Pale Fire Brewing Company
X-ORIGINAL-URL:https://www.palefirebrewing.com
X-WR-CALDESC:Events for Pale Fire Brewing Company
REFRESH-INTERVAL;VALUE=DURATION:PT1H
X-Robots-Tag:noindex
X-PUBLISHED-TTL:PT1H
BEGIN:VTIMEZONE
TZID:America/New_York
BEGIN:DAYLIGHT
TZOFFSETFROM:-0500
TZOFFSETTO:-0400
TZNAME:EDT
DTSTART:20250309T070000
END:DAYLIGHT
BEGIN:STANDARD
TZOFFSETFROM:-0400
TZOFFSETTO:-0500
TZNAME:EST
DTSTART:20251102T060000
END:STANDARD
BEGIN:DAYLIGHT
TZOFFSETFROM:-0500
TZOFFSETTO:-0400
TZNAME:EDT
DTSTART:20260308T070000
END:DAYLIGHT
BEGIN:STANDARD
TZOFFSETFROM:-0400
TZOFFSETTO:-0500
TZNAME:EST
DTSTART:20261101T060000
END:STANDARD
BEGIN:DAYLIGHT
TZOFFSETFROM:-0500
TZOFFSETTO:-0400
TZNAME:EDT
DTSTART:20270314T070000
END:DAYLIGHT
BEGIN:STANDARD
TZOFFSETFROM:-0400
TZOFFSETTO:-0500
TZNAME:EST
DTSTART:20271107T060000
END:STANDARD
END:VTIMEZONE
BEGIN:VEVENT
DTSTART;TZID=America/New_York:20260314T180000
DTEND;TZID=America/New_York:20260314T210000
DTSTAMP:20260424T054842
CREATED:20260306T225112Z
LAST-MODIFIED:20260306T225114Z
UID:10001107-1773511200-1773522000@www.palefirebrewing.com
SUMMARY:Death By Bellows (Basye)
DESCRIPTION:<<<\nDeath By Bellows at Pale Fire Brewing Co. – Basye\nSaturday\, March 14th\n6PM\nFREE\nall ages\n>>> \nArmed with an accordion and kick drum\, Death by Bellows performs shanties\, pirate music\, medieval ballads\, traditional drinking songs\, and long forgotten songs of the sea. With a shot of Gogol Bordello\, a swig of Tom Waits\, a little dash of Jack Sparrow thrown in the mix\, Death by Bellows brings the one man band experience to life to captive spectators\, raising glasses\, dancing\, and singing along. \nAudiences are invited to shout out the choruses of more well known shanties and Irish drinking songs\, and unknown songs are easily picked up. Ivan provides a “SCALLYWAG CHOIR BOOK” with the choruses of the songs to sing along to (like a hymnal book\, in ‘zine form). All ages\, from little ones to adults\, can be entertained by the ramblings of an obnoxious pirate on the deck with an accordion. \n☘️ Green Bryce Mountain Lager\n☘️ Red Molly Irish Red Ale\n☘️ Themed cocktails\n☘️ Dry Irish Stout Car Bombs
URL:https://www.palefirebrewing.com/event/death-by-bellows-basye/
LOCATION:Pale Fire Brewing Co. – Basye\, 1618 Orkney Grade\, Basye\, VA\, 22810\, United States
CATEGORIES:Basye,Live Music
ATTACH;FMTTYPE=image/png:https://www.palefirebrewing.com/wp-content/uploads/2026/03/deathbybellows-1.avif
ORGANIZER;CN="Pale Fire Brewing Co.":MAILTO:hello@palefirebrewing.com
END:VEVENT
BEGIN:VEVENT
DTSTART;TZID=America/New_York:20260321T200000
DTEND;TZID=America/New_York:20260321T220000
DTSTAMP:20260424T054842
CREATED:20260210T173600Z
LAST-MODIFIED:20260210T173601Z
UID:10001101-1774123200-1774130400@www.palefirebrewing.com
SUMMARY:The Golden Hours
DESCRIPTION:<<<\nDavid Wax Museum & Lowland Hum present:\nThe Golden Hours at Pale Fire Brewing Co.\nSaturday\, March 21st\n7PM doors/8PM show\nTICKETS: $25 ADV/$30 DOS\nall ages\n>>> \nCatch the unveiling of The Golden Hours\, a new Charlottesville-based band formed by the members of acclaimed indie-folk acts Lowland Hum and David Wax Museum. These musicians have been touring and recording for over 20 years\, featured on CBS Saturday Morning and NPR’s Tiny Desk\, and lauded by The New York Times\, Washington Post\, TIME\, and Rolling Stone\, among others. The Golden Hours’ debut record Terra Nova (to be released in 2026) includes “Day Wheel\,” an NPR Music Song of the Day. The forthcoming album brings together the power of these four songwriters in an artifact that is simultaneously lush and distilled\, emotionally probing\, and conceptually expansive. \nThe two duos Lowland Hum and David Wax Museum will open the show.
URL:https://www.palefirebrewing.com/event/the-golden-hours/
LOCATION:Pale Fire Brewing Co. – Harrisonburg\, 217 S Liberty St Ste 105\, Harrisonburg\, VA\, 22801\, United States
CATEGORIES:Harrisonburg,Live Music
ATTACH;FMTTYPE=image/png:https://www.palefirebrewing.com/wp-content/uploads/2026/02/The-Golden-Hours.avif
ORGANIZER;CN="Pale Fire Brewing Co.":MAILTO:hello@palefirebrewing.com
END:VEVENT
END:VCALENDAR