BEGIN:VCALENDAR
VERSION:2.0
PRODID:-//Pale Fire Brewing Company - ECPv6.15.20//NONSGML v1.0//EN
CALSCALE:GREGORIAN
METHOD:PUBLISH
X-WR-CALNAME:Pale Fire Brewing Company
X-ORIGINAL-URL:https://www.palefirebrewing.com
X-WR-CALDESC:Events for Pale Fire Brewing Company
REFRESH-INTERVAL;VALUE=DURATION:PT1H
X-Robots-Tag:noindex
X-PUBLISHED-TTL:PT1H
BEGIN:VTIMEZONE
TZID:America/New_York
BEGIN:DAYLIGHT
TZOFFSETFROM:-0500
TZOFFSETTO:-0400
TZNAME:EDT
DTSTART:20250309T070000
END:DAYLIGHT
BEGIN:STANDARD
TZOFFSETFROM:-0400
TZOFFSETTO:-0500
TZNAME:EST
DTSTART:20251102T060000
END:STANDARD
BEGIN:DAYLIGHT
TZOFFSETFROM:-0500
TZOFFSETTO:-0400
TZNAME:EDT
DTSTART:20260308T070000
END:DAYLIGHT
BEGIN:STANDARD
TZOFFSETFROM:-0400
TZOFFSETTO:-0500
TZNAME:EST
DTSTART:20261101T060000
END:STANDARD
BEGIN:DAYLIGHT
TZOFFSETFROM:-0500
TZOFFSETTO:-0400
TZNAME:EDT
DTSTART:20270314T070000
END:DAYLIGHT
BEGIN:STANDARD
TZOFFSETFROM:-0400
TZOFFSETTO:-0500
TZNAME:EST
DTSTART:20271107T060000
END:STANDARD
END:VTIMEZONE
BEGIN:VEVENT
DTSTART;TZID=America/New_York:20260505T190000
DTEND;TZID=America/New_York:20260505T210000
DTSTAMP:20260424T102002
CREATED:20250418T175406Z
LAST-MODIFIED:20260113T193002Z
UID:10001091-1778007600-1778014800@www.palefirebrewing.com
SUMMARY:Madison Jazz Collective
DESCRIPTION:<<<\nMadison Jazz Collective at Pale Fire Brewing Co.\nTuesdays*\n7PM\nFREE\nall ages\n>>> \nJMU jazz professors and their special guests are here to entertain us with a combination of lively and laid-back licks. \n*Dates:\nJan. 20 | Feb. 3\, 17 | Mar. 3\, 24 | Apr. 7\, 21 | May 5
URL:https://www.palefirebrewing.com/event/madison-jazz-collective/2026-05-05/
LOCATION:Pale Fire Brewing Co. – Harrisonburg\, 217 S Liberty St Ste 105\, Harrisonburg\, VA\, 22801\, United States
CATEGORIES:Harrisonburg,Live Music
ATTACH;FMTTYPE=image/png:https://www.palefirebrewing.com/wp-content/uploads/2025/10/Madison-Jazz-Collective.avif
ORGANIZER;CN="Pale Fire Brewing Co.":MAILTO:hello@palefirebrewing.com
END:VEVENT
BEGIN:VEVENT
DTSTART;TZID=America/New_York:20260807T170000
DTEND;TZID=America/New_York:20260807T235900
DTSTAMP:20260424T102002
CREATED:20260120T213406Z
LAST-MODIFIED:20260120T213800Z
UID:10001098-1786122000-1786147140@www.palefirebrewing.com
SUMMARY:Townie Summer Party
DESCRIPTION:As always\, we’re ending Townie Summer with a big ol’ party for townies! Wear your best Hawaiian shirt or get lei’d when you arrive. Come early for food and fun\, and stick around for live music. Festivities include… \n🍻 Outdoor beverage garden with bar in the roundabout\n🍺 Another year\, another Townie Juice\n🍹 Piña Colada Jell-O shots & Tropical Storm cocktail\n🎸 Live music TBD\n👕 The Mark-It selling Townie Summer\, Harrisonburg\, and Virginia tees and koozies \nA few things to note…\n🪑 Seating is limited\, but camp chairs are easy to carry 😉\n🥳 This is a family friendly event\, but kids must be supervised by an adult\n🦮 Dogs are welcome\, but must be on a leash at all times \n🎉 SAVE THE DATE! Townie Summer may be ending\, but we’ll kick off another season next year on May 21st!
URL:https://www.palefirebrewing.com/event/townie-summer-party-2026/
LOCATION:Pale Fire Brewing Co. – Harrisonburg\, 217 S Liberty St Ste 105\, Harrisonburg\, VA\, 22801\, United States
CATEGORIES:Community,Harrisonburg,Live Music
ATTACH;FMTTYPE=image/jpeg:https://www.palefirebrewing.com/wp-content/uploads/2025/05/Townie-Summer-Party.avif
ORGANIZER;CN="Pale Fire Brewing Co.":MAILTO:hello@palefirebrewing.com
END:VEVENT
END:VCALENDAR