BEGIN:VCALENDAR
VERSION:2.0
PRODID:-//Pale Fire Brewing Company - ECPv6.15.20//NONSGML v1.0//EN
CALSCALE:GREGORIAN
METHOD:PUBLISH
X-WR-CALNAME:Pale Fire Brewing Company
X-ORIGINAL-URL:https://www.palefirebrewing.com
X-WR-CALDESC:Events for Pale Fire Brewing Company
REFRESH-INTERVAL;VALUE=DURATION:PT1H
X-Robots-Tag:noindex
X-PUBLISHED-TTL:PT1H
BEGIN:VTIMEZONE
TZID:America/New_York
BEGIN:DAYLIGHT
TZOFFSETFROM:-0500
TZOFFSETTO:-0400
TZNAME:EDT
DTSTART:20250309T070000
END:DAYLIGHT
BEGIN:STANDARD
TZOFFSETFROM:-0400
TZOFFSETTO:-0500
TZNAME:EST
DTSTART:20251102T060000
END:STANDARD
BEGIN:DAYLIGHT
TZOFFSETFROM:-0500
TZOFFSETTO:-0400
TZNAME:EDT
DTSTART:20260308T070000
END:DAYLIGHT
BEGIN:STANDARD
TZOFFSETFROM:-0400
TZOFFSETTO:-0500
TZNAME:EST
DTSTART:20261101T060000
END:STANDARD
BEGIN:DAYLIGHT
TZOFFSETFROM:-0500
TZOFFSETTO:-0400
TZNAME:EDT
DTSTART:20270314T070000
END:DAYLIGHT
BEGIN:STANDARD
TZOFFSETFROM:-0400
TZOFFSETTO:-0500
TZNAME:EST
DTSTART:20271107T060000
END:STANDARD
END:VTIMEZONE
BEGIN:VEVENT
DTSTART;TZID=America/New_York:20260407T190000
DTEND;TZID=America/New_York:20260407T210000
DTSTAMP:20260422T134859
CREATED:20250418T175406Z
LAST-MODIFIED:20260113T193002Z
UID:10001089-1775588400-1775595600@www.palefirebrewing.com
SUMMARY:Madison Jazz Collective
DESCRIPTION:<<<\nMadison Jazz Collective at Pale Fire Brewing Co.\nTuesdays*\n7PM\nFREE\nall ages\n>>> \nJMU jazz professors and their special guests are here to entertain us with a combination of lively and laid-back licks. \n*Dates:\nJan. 20 | Feb. 3\, 17 | Mar. 3\, 24 | Apr. 7\, 21 | May 5
URL:https://www.palefirebrewing.com/event/madison-jazz-collective/2026-04-07/
LOCATION:Pale Fire Brewing Co. – Harrisonburg\, 217 S Liberty St Ste 105\, Harrisonburg\, VA\, 22801\, United States
CATEGORIES:Harrisonburg,Live Music
ATTACH;FMTTYPE=image/png:https://www.palefirebrewing.com/wp-content/uploads/2025/10/Madison-Jazz-Collective.avif
ORGANIZER;CN="Pale Fire Brewing Co.":MAILTO:hello@palefirebrewing.com
END:VEVENT
END:VCALENDAR