BEGIN:VCALENDAR
VERSION:2.0
PRODID:-//Pale Fire Brewing Company - ECPv6.15.20//NONSGML v1.0//EN
CALSCALE:GREGORIAN
METHOD:PUBLISH
X-ORIGINAL-URL:https://www.palefirebrewing.com
X-WR-CALDESC:Events for Pale Fire Brewing Company
REFRESH-INTERVAL;VALUE=DURATION:PT1H
X-Robots-Tag:noindex
X-PUBLISHED-TTL:PT1H
BEGIN:VTIMEZONE
TZID:America/New_York
BEGIN:DAYLIGHT
TZOFFSETFROM:-0500
TZOFFSETTO:-0400
TZNAME:EDT
DTSTART:20250309T070000
END:DAYLIGHT
BEGIN:STANDARD
TZOFFSETFROM:-0400
TZOFFSETTO:-0500
TZNAME:EST
DTSTART:20251102T060000
END:STANDARD
BEGIN:DAYLIGHT
TZOFFSETFROM:-0500
TZOFFSETTO:-0400
TZNAME:EDT
DTSTART:20260308T070000
END:DAYLIGHT
BEGIN:STANDARD
TZOFFSETFROM:-0400
TZOFFSETTO:-0500
TZNAME:EST
DTSTART:20261101T060000
END:STANDARD
BEGIN:DAYLIGHT
TZOFFSETFROM:-0500
TZOFFSETTO:-0400
TZNAME:EDT
DTSTART:20270314T070000
END:DAYLIGHT
BEGIN:STANDARD
TZOFFSETFROM:-0400
TZOFFSETTO:-0500
TZNAME:EST
DTSTART:20271107T060000
END:STANDARD
END:VTIMEZONE
BEGIN:VEVENT
DTSTART;TZID=America/New_York:20260206T190000
DTEND;TZID=America/New_York:20260206T213000
DTSTAMP:20260424T083319
CREATED:20260113T215407Z
LAST-MODIFIED:20260113T215409Z
UID:10001093-1770404400-1770413400@www.palefirebrewing.com
SUMMARY:Gia Ray
DESCRIPTION:<<<\nGia Ray at Pale Fire Brewing Co.\nFriday\, February 6th\n7PM\nFREE\nall ages\n>>> \nGia ray is a singer-songwriter based in Charlottesville\, Virginia. Gia started her performing career as a child varying in everything from musical theatre & tv shows to dancing & modeling. At a young age she discovered her love of writing and hasn’t stopped since. She has written plays\, screenplays and countless unreleased songs. After living in LA & traveling the world as a professional model\, Gia decided to return to Virginia and begin her career as a singer-songwriter. \nRecorded in a cabin off the Blue Ridge Parkway in Virginia\, Gia’s music is an eclectic mix of songs ranging from folk to rock to vintage country.
URL:https://www.palefirebrewing.com/event/gia-ray/
LOCATION:Pale Fire Brewing Co. – Harrisonburg\, 217 S Liberty St Ste 105\, Harrisonburg\, VA\, 22801\, United States
CATEGORIES:Harrisonburg,Live Music
ATTACH;FMTTYPE=image/png:https://www.palefirebrewing.com/wp-content/uploads/2026/01/Gia-Ray.avif
ORGANIZER;CN="Pale Fire Brewing Co.":MAILTO:hello@palefirebrewing.com
END:VEVENT
END:VCALENDAR