BEGIN:VCALENDAR
VERSION:2.0
PRODID:-//Pale Fire Brewing Company - ECPv6.15.20//NONSGML v1.0//EN
CALSCALE:GREGORIAN
METHOD:PUBLISH
X-ORIGINAL-URL:https://www.palefirebrewing.com
X-WR-CALDESC:Events for Pale Fire Brewing Company
REFRESH-INTERVAL;VALUE=DURATION:PT1H
X-Robots-Tag:noindex
X-PUBLISHED-TTL:PT1H
BEGIN:VTIMEZONE
TZID:America/New_York
BEGIN:DAYLIGHT
TZOFFSETFROM:-0500
TZOFFSETTO:-0400
TZNAME:EDT
DTSTART:20250309T070000
END:DAYLIGHT
BEGIN:STANDARD
TZOFFSETFROM:-0400
TZOFFSETTO:-0500
TZNAME:EST
DTSTART:20251102T060000
END:STANDARD
BEGIN:DAYLIGHT
TZOFFSETFROM:-0500
TZOFFSETTO:-0400
TZNAME:EDT
DTSTART:20260308T070000
END:DAYLIGHT
BEGIN:STANDARD
TZOFFSETFROM:-0400
TZOFFSETTO:-0500
TZNAME:EST
DTSTART:20261101T060000
END:STANDARD
BEGIN:DAYLIGHT
TZOFFSETFROM:-0500
TZOFFSETTO:-0400
TZNAME:EDT
DTSTART:20270314T070000
END:DAYLIGHT
BEGIN:STANDARD
TZOFFSETFROM:-0400
TZOFFSETTO:-0500
TZNAME:EST
DTSTART:20271107T060000
END:STANDARD
END:VTIMEZONE
BEGIN:VEVENT
DTSTART;TZID=America/New_York:20260110T190000
DTEND;TZID=America/New_York:20260110T223000
DTSTAMP:20260424T083949
CREATED:20251113T171513Z
LAST-MODIFIED:20251113T171514Z
UID:10000996-1768071600-1768084200@www.palefirebrewing.com
SUMMARY:The Honey Dewdrops
DESCRIPTION:The Honey Dewdrops are returning to Pale Fire Brewing Co. in Harrisonburg\, VA! Join us on Saturday\, January 10th for an evening with this duo. \n<<<\n7:00PM Doors / 8:00PM Show\n$15 ADV / $20 DOS\nGeneral Admission w/ limited seating\n13+\n>>> \nVirginia natives\, Laura Wortman and Kagey Parrish of The Honey Dewdrops began touring in 2009 and have called the city of Baltimore home for over 10 years. They released their newest album\, Here in the Mountains\, in August 2024 – a batch of songs written and inspired by the origin story of a close friend. \nThroughout their two-decade partnership\, the Dewdrops have highlighted the power and intimacy of two voices and two instruments in both live performances and recordings. Laura and Kagey constantly push the boundaries of their experimental folk sound—blending electric and acoustic guitars\, mandolin and clawhammer banjo—while weaving in tight vocal harmonies. They remain committed to deepening their understanding of the world through songwriting and music. \nNo Depression says of their 2022 album\, Light Behind Light\, “The Honey Dewdrops have a way of filling their songs with humanity\, using their beautiful playing and harmonies to emphasize what connects us all.” \nthehoneydewdrops.com
URL:https://www.palefirebrewing.com/event/the-honey-dewdrops/
LOCATION:Pale Fire Brewing Co. – Harrisonburg\, 217 S Liberty St Ste 105\, Harrisonburg\, VA\, 22801\, United States
CATEGORIES:Harrisonburg,Live Music
ATTACH;FMTTYPE=image/jpeg:https://www.palefirebrewing.com/wp-content/uploads/2022/03/2L9A5416-Edit-copy-scaled.jpg
ORGANIZER;CN="Pale Fire Brewing Co.":MAILTO:hello@palefirebrewing.com
END:VEVENT
END:VCALENDAR