BEGIN:VCALENDAR
VERSION:2.0
PRODID:-//Pale Fire Brewing Company - ECPv6.15.20//NONSGML v1.0//EN
CALSCALE:GREGORIAN
METHOD:PUBLISH
X-WR-CALNAME:Pale Fire Brewing Company
X-ORIGINAL-URL:https://www.palefirebrewing.com
X-WR-CALDESC:Events for Pale Fire Brewing Company
REFRESH-INTERVAL;VALUE=DURATION:PT1H
X-Robots-Tag:noindex
X-PUBLISHED-TTL:PT1H
BEGIN:VTIMEZONE
TZID:America/New_York
BEGIN:DAYLIGHT
TZOFFSETFROM:-0500
TZOFFSETTO:-0400
TZNAME:EDT
DTSTART:20250309T070000
END:DAYLIGHT
BEGIN:STANDARD
TZOFFSETFROM:-0400
TZOFFSETTO:-0500
TZNAME:EST
DTSTART:20251102T060000
END:STANDARD
BEGIN:DAYLIGHT
TZOFFSETFROM:-0500
TZOFFSETTO:-0400
TZNAME:EDT
DTSTART:20260308T070000
END:DAYLIGHT
BEGIN:STANDARD
TZOFFSETFROM:-0400
TZOFFSETTO:-0500
TZNAME:EST
DTSTART:20261101T060000
END:STANDARD
BEGIN:DAYLIGHT
TZOFFSETFROM:-0500
TZOFFSETTO:-0400
TZNAME:EDT
DTSTART:20270314T070000
END:DAYLIGHT
BEGIN:STANDARD
TZOFFSETFROM:-0400
TZOFFSETTO:-0500
TZNAME:EST
DTSTART:20271107T060000
END:STANDARD
END:VTIMEZONE
BEGIN:VEVENT
DTSTART;TZID=America/New_York:20260109T190000
DTEND;TZID=America/New_York:20260109T213000
DTSTAMP:20260424T083936
CREATED:20260107T192022Z
LAST-MODIFIED:20260107T192023Z
UID:10001082-1767985200-1767994200@www.palefirebrewing.com
SUMMARY:Skribe
DESCRIPTION:<<<\nSkribe at Pale Fire Brewing Co.\nFriday\, January 9th\n7PM\nFREE\nall ages\n>>> \nSkribe plays an oil can called a canjo-zookie. It’s an eight-string guitar with a biting\, blues-y rasp. Skribe’s got the voice (and the old-school Cadillac) to match. Accompanying himself on the suitcase-kick and hi-hat\, Skribe’s “M.I.Y.” is a barn-burning roots number.\n\n\n\n\nYou may have recently seen Skribe supporting G. Love & Special Sauce\, Darius Rucker\, Jon Cleary\, Lucy Dacus\, Jake Clemons (of the E Street Band)\, Patrick Sweaney\, Langhorne Slim\, Lydia Loveless\, Shovels & Rope\, Samantha Fish\, Grizfolk\, Joe Pug\, The Last Bandoleros\,  Zach Deputy\, Suitcase Junket\, and Possessed By Paul James…
URL:https://www.palefirebrewing.com/event/skribe/
LOCATION:Pale Fire Brewing Co. – Harrisonburg\, 217 S Liberty St Ste 105\, Harrisonburg\, VA\, 22801\, United States
CATEGORIES:Harrisonburg,Live Music
ATTACH;FMTTYPE=image/png:https://www.palefirebrewing.com/wp-content/uploads/2026/01/Skribe-1.avif
ORGANIZER;CN="Pale Fire Brewing Co.":MAILTO:hello@palefirebrewing.com
END:VEVENT
END:VCALENDAR