BEGIN:VCALENDAR
VERSION:2.0
PRODID:-//Pale Fire Brewing Company - ECPv6.15.20//NONSGML v1.0//EN
CALSCALE:GREGORIAN
METHOD:PUBLISH
X-WR-CALNAME:Pale Fire Brewing Company
X-ORIGINAL-URL:https://www.palefirebrewing.com
X-WR-CALDESC:Events for Pale Fire Brewing Company
REFRESH-INTERVAL;VALUE=DURATION:PT1H
X-Robots-Tag:noindex
X-PUBLISHED-TTL:PT1H
BEGIN:VTIMEZONE
TZID:America/New_York
BEGIN:DAYLIGHT
TZOFFSETFROM:-0500
TZOFFSETTO:-0400
TZNAME:EDT
DTSTART:20250309T070000
END:DAYLIGHT
BEGIN:STANDARD
TZOFFSETFROM:-0400
TZOFFSETTO:-0500
TZNAME:EST
DTSTART:20251102T060000
END:STANDARD
BEGIN:DAYLIGHT
TZOFFSETFROM:-0500
TZOFFSETTO:-0400
TZNAME:EDT
DTSTART:20260308T070000
END:DAYLIGHT
BEGIN:STANDARD
TZOFFSETFROM:-0400
TZOFFSETTO:-0500
TZNAME:EST
DTSTART:20261101T060000
END:STANDARD
BEGIN:DAYLIGHT
TZOFFSETFROM:-0500
TZOFFSETTO:-0400
TZNAME:EDT
DTSTART:20270314T070000
END:DAYLIGHT
BEGIN:STANDARD
TZOFFSETFROM:-0400
TZOFFSETTO:-0500
TZNAME:EST
DTSTART:20271107T060000
END:STANDARD
END:VTIMEZONE
BEGIN:VEVENT
DTSTART;TZID=America/New_York:20260303T190000
DTEND;TZID=America/New_York:20260303T210000
DTSTAMP:20260422T134823
CREATED:20250418T175406Z
LAST-MODIFIED:20260113T193002Z
UID:10001087-1772564400-1772571600@www.palefirebrewing.com
SUMMARY:Madison Jazz Collective
DESCRIPTION:<<<\nMadison Jazz Collective at Pale Fire Brewing Co.\nTuesdays*\n7PM\nFREE\nall ages\n>>> \nJMU jazz professors and their special guests are here to entertain us with a combination of lively and laid-back licks. \n*Dates:\nJan. 20 | Feb. 3\, 17 | Mar. 3\, 24 | Apr. 7\, 21 | May 5
URL:https://www.palefirebrewing.com/event/madison-jazz-collective/2026-03-03/
LOCATION:Pale Fire Brewing Co. – Harrisonburg\, 217 S Liberty St Ste 105\, Harrisonburg\, VA\, 22801\, United States
CATEGORIES:Harrisonburg,Live Music
ATTACH;FMTTYPE=image/png:https://www.palefirebrewing.com/wp-content/uploads/2025/10/Madison-Jazz-Collective.avif
ORGANIZER;CN="Pale Fire Brewing Co.":MAILTO:hello@palefirebrewing.com
END:VEVENT
BEGIN:VEVENT
DTSTART;TZID=America/New_York:20260306T170000
DTEND;TZID=America/New_York:20260306T190000
DTSTAMP:20260422T134823
CREATED:20260217T221105Z
LAST-MODIFIED:20260217T221106Z
UID:10001103-1772816400-1772823600@www.palefirebrewing.com
SUMMARY:First Friday: David Cowardin "Outdoor Inspiration"
DESCRIPTION:<<<\nFirst Friday at Pale Fire Brewing Co.\nFriday\, March 6th\n5PM\nFREE\nall ages\n>>> \n🎨 About the artist\, David Cowardin:\nI grew up in Richmond\, VA graduating from Virginia Commonwealth University with a painting and printmaking degree. My junior year I traveled to England and studied printmaking. This afforded me a chance to travel Europe\, seeing “up close and in person” paintings and sculptures I studied. After college I worked in shipbuilding design\, computer software sales\, and purchasing careers. I am currently retired and enjoying creative endeavors. \nStick around for live music 7-9:30pm by Anthony Frijia + Skribe!
URL:https://www.palefirebrewing.com/event/first-friday-david-cowardin-outdoor-inspiration/
LOCATION:Pale Fire Brewing Co. – Harrisonburg\, 217 S Liberty St Ste 105\, Harrisonburg\, VA\, 22801\, United States
CATEGORIES:Art,Harrisonburg
ATTACH;FMTTYPE=image/png:https://www.palefirebrewing.com/wp-content/uploads/2026/02/First-Friday.avif
ORGANIZER;CN="Pale Fire Brewing Co.":MAILTO:hello@palefirebrewing.com
END:VEVENT
BEGIN:VEVENT
DTSTART;TZID=America/New_York:20260313T170000
DTEND;TZID=America/New_York:20260313T180000
DTSTAMP:20260422T134823
CREATED:20260304T213242Z
LAST-MODIFIED:20260304T213243Z
UID:10001104-1773421200-1773424800@www.palefirebrewing.com
SUMMARY:Beer with the Brewer
DESCRIPTION:Beer with the Brewer: Tour + Guided Tasting \nTicketed event: $20 per person\, 21+ \nJoin us for a one-hour behind-the-scenes experience on 3/13\, 5-6PM. Take a brewery tour with our head brewer\, Scott\, and get a closer look at where it all comes to life. After the tour\, stick around to sip on five 4oz pours personally curated by Scott\, who’ll walk you through the stories\, ingredients\, and process behind each beer. \nPerfect for curious beer lovers\, longtime fans\, and anyone who’s ever wanted to ask the brewer a question (or ten). 🍻 \n 
URL:https://www.palefirebrewing.com/event/beer-with-the-brewer/
LOCATION:Pale Fire Brewing Co. – Harrisonburg\, 217 S Liberty St Ste 105\, Harrisonburg\, VA\, 22801\, United States
CATEGORIES:Harrisonburg
ATTACH;FMTTYPE=image/png:https://www.palefirebrewing.com/wp-content/uploads/2026/03/Beer-with-the-Brewer-EVENT-1.avif
ORGANIZER;CN="Pale Fire Brewing Co.":MAILTO:hello@palefirebrewing.com
END:VEVENT
BEGIN:VEVENT
DTSTART;TZID=America/New_York:20260323T170000
DTEND;TZID=America/New_York:20260323T180000
DTSTAMP:20260422T134823
CREATED:20260304T213607Z
LAST-MODIFIED:20260304T213608Z
UID:10001105-1774285200-1774288800@www.palefirebrewing.com
SUMMARY:Beer with the Brewer
DESCRIPTION:Beer with the Brewer: Tour + Guided Tasting \nTicketed event: $20 per person\, 21+ \nJoin us for a one-hour behind-the-scenes experience on 3/23\, 5-6PM. Take a brewery tour with our head brewer\, Scott\, and get a closer look at where it all comes to life. After the tour\, stick around to sip on five 4oz pours personally curated by Scott\, who’ll walk you through the stories\, ingredients\, and process behind each beer. \nPerfect for curious beer lovers\, longtime fans\, and anyone who’s ever wanted to ask the brewer a question (or ten). 🍻 \n 
URL:https://www.palefirebrewing.com/event/beer-with-the-brewer-2/
LOCATION:Pale Fire Brewing Co. – Harrisonburg\, 217 S Liberty St Ste 105\, Harrisonburg\, VA\, 22801\, United States
CATEGORIES:Harrisonburg
ATTACH;FMTTYPE=image/png:https://www.palefirebrewing.com/wp-content/uploads/2026/03/Beer-with-the-Brewer-EVENT-1.avif
ORGANIZER;CN="Pale Fire Brewing Co.":MAILTO:hello@palefirebrewing.com
END:VEVENT
BEGIN:VEVENT
DTSTART;TZID=America/New_York:20260324T190000
DTEND;TZID=America/New_York:20260324T210000
DTSTAMP:20260422T134823
CREATED:20250418T175406Z
LAST-MODIFIED:20260113T193002Z
UID:10001088-1774378800-1774386000@www.palefirebrewing.com
SUMMARY:Madison Jazz Collective
DESCRIPTION:<<<\nMadison Jazz Collective at Pale Fire Brewing Co.\nTuesdays*\n7PM\nFREE\nall ages\n>>> \nJMU jazz professors and their special guests are here to entertain us with a combination of lively and laid-back licks. \n*Dates:\nJan. 20 | Feb. 3\, 17 | Mar. 3\, 24 | Apr. 7\, 21 | May 5
URL:https://www.palefirebrewing.com/event/madison-jazz-collective/2026-03-24/
LOCATION:Pale Fire Brewing Co. – Harrisonburg\, 217 S Liberty St Ste 105\, Harrisonburg\, VA\, 22801\, United States
CATEGORIES:Harrisonburg,Live Music
ATTACH;FMTTYPE=image/png:https://www.palefirebrewing.com/wp-content/uploads/2025/10/Madison-Jazz-Collective.avif
ORGANIZER;CN="Pale Fire Brewing Co.":MAILTO:hello@palefirebrewing.com
END:VEVENT
BEGIN:VEVENT
DTSTART;TZID=America/New_York:20260325T170000
DTEND;TZID=America/New_York:20260325T193000
DTSTAMP:20260422T134823
CREATED:20260307T193148Z
LAST-MODIFIED:20260307T193148Z
UID:10001108-1774458000-1774467000@www.palefirebrewing.com
SUMMARY:"Celebrity" Bartenders for Explore More
DESCRIPTION:Our favorite “celebrity” bartenders are back raising money for Explore More Discovery Museum! \nBoard members Neal Lewis and Kevin Gibson will be taking orders and slinging beers! Be prepared to tip generously – 100% will go directly to the children’s museum. \nAs a nonprofit organization\, Explore More relies on community support to provide nearly half of its annual operating budget\, helping them provide quality\, educational programs while keeping the museum accessible for ALL children. \nCan’t make it? You can donate directly at https://www.iexploremore.com/ways-to-give
URL:https://www.palefirebrewing.com/event/celebrity-bartenders-for-explore-more/
LOCATION:Pale Fire Brewing Co. – Harrisonburg\, 217 S Liberty St Ste 105\, Harrisonburg\, VA\, 22801\, United States
CATEGORIES:Community,Fundraiser,Harrisonburg
ATTACH;FMTTYPE=image/png:https://www.palefirebrewing.com/wp-content/uploads/2025/03/live-music-facebook-3-png.webp
ORGANIZER;CN="Pale Fire Brewing Co.":MAILTO:hello@palefirebrewing.com
END:VEVENT
BEGIN:VEVENT
DTSTART;TZID=America/New_York:20260327T170000
DTEND;TZID=America/New_York:20260327T180000
DTSTAMP:20260422T134823
CREATED:20260304T213904Z
LAST-MODIFIED:20260304T213905Z
UID:10001106-1774630800-1774634400@www.palefirebrewing.com
SUMMARY:Beer with the Brewer
DESCRIPTION:Beer with the Brewer: Tour + Guided Tasting \nJoin us for a one-hour behind-the-scenes experience on 3/13\, 3/23\, or 3/27\, 5-6PM. Take a brewery tour with our head brewer\, Scott\, and get a closer look at where it all comes to life. After the tour\, stick around to sip on five 4oz pours personally curated by Scott\, who’ll walk you through the stories\, ingredients\, and process behind each beer. \nPerfect for curious beer lovers\, longtime fans\, and anyone who’s ever wanted to ask the brewer a question (or ten). 🍻 \n21+
URL:https://www.palefirebrewing.com/event/beer-with-the-brewer-3/
LOCATION:Pale Fire Brewing Co. – Harrisonburg\, 217 S Liberty St Ste 105\, Harrisonburg\, VA\, 22801\, United States
CATEGORIES:Harrisonburg
ATTACH;FMTTYPE=image/png:https://www.palefirebrewing.com/wp-content/uploads/2026/03/Beer-with-the-Brewer-EVENT-1.avif
ORGANIZER;CN="Pale Fire Brewing Co.":MAILTO:hello@palefirebrewing.com
END:VEVENT
END:VCALENDAR