BEGIN:VCALENDAR
VERSION:2.0
PRODID:-//Pale Fire Brewing Company - ECPv6.15.20//NONSGML v1.0//EN
CALSCALE:GREGORIAN
METHOD:PUBLISH
X-ORIGINAL-URL:https://www.palefirebrewing.com
X-WR-CALDESC:Events for Pale Fire Brewing Company
REFRESH-INTERVAL;VALUE=DURATION:PT1H
X-Robots-Tag:noindex
X-PUBLISHED-TTL:PT1H
BEGIN:VTIMEZONE
TZID:America/New_York
BEGIN:DAYLIGHT
TZOFFSETFROM:-0500
TZOFFSETTO:-0400
TZNAME:EDT
DTSTART:20250309T070000
END:DAYLIGHT
BEGIN:STANDARD
TZOFFSETFROM:-0400
TZOFFSETTO:-0500
TZNAME:EST
DTSTART:20251102T060000
END:STANDARD
BEGIN:DAYLIGHT
TZOFFSETFROM:-0500
TZOFFSETTO:-0400
TZNAME:EDT
DTSTART:20260308T070000
END:DAYLIGHT
BEGIN:STANDARD
TZOFFSETFROM:-0400
TZOFFSETTO:-0500
TZNAME:EST
DTSTART:20261101T060000
END:STANDARD
BEGIN:DAYLIGHT
TZOFFSETFROM:-0500
TZOFFSETTO:-0400
TZNAME:EDT
DTSTART:20270314T070000
END:DAYLIGHT
BEGIN:STANDARD
TZOFFSETFROM:-0400
TZOFFSETTO:-0500
TZNAME:EST
DTSTART:20271107T060000
END:STANDARD
END:VTIMEZONE
BEGIN:VEVENT
DTSTART;TZID=America/New_York:20260421T170000
DTEND;TZID=America/New_York:20260421T190000
DTSTAMP:20260424T053927
CREATED:20240627T195643Z
LAST-MODIFIED:20241105T211847Z
UID:10000567-1776790800-1776798000@www.palefirebrewing.com
SUMMARY:Green Drinks with CAAV
DESCRIPTION:Join Climate Action Alliance of the Valley (CAAV) for Green Drinks at Pale Fire Brewing! Meet at 5pm on the third Tuesday of every month. People interested in sustainability\, green energy\, land and water use\, birders\, bikers\, and climate change people and organizations are invited. Bring a friend and share with anyone who may be interested!
URL:https://www.palefirebrewing.com/event/green-drinks-with-caav/2026-04-21/
LOCATION:Pale Fire Brewing Co. – Harrisonburg\, 217 S Liberty St Ste 105\, Harrisonburg\, VA\, 22801\, United States
CATEGORIES:Community,Harrisonburg
ATTACH;FMTTYPE=image/jpeg:https://www.palefirebrewing.com/wp-content/uploads/2024/06/caav-jpg.webp
ORGANIZER;CN="Climate Action Alliance of the Valley (CAAV)":MAILTO:contactcaav@gmail.com
END:VEVENT
BEGIN:VEVENT
DTSTART;TZID=America/New_York:20260421T190000
DTEND;TZID=America/New_York:20260421T210000
DTSTAMP:20260424T053927
CREATED:20250418T175406Z
LAST-MODIFIED:20260113T193002Z
UID:10001090-1776798000-1776805200@www.palefirebrewing.com
SUMMARY:Madison Jazz Collective
DESCRIPTION:<<<\nMadison Jazz Collective at Pale Fire Brewing Co.\nTuesdays*\n7PM\nFREE\nall ages\n>>> \nJMU jazz professors and their special guests are here to entertain us with a combination of lively and laid-back licks. \n*Dates:\nJan. 20 | Feb. 3\, 17 | Mar. 3\, 24 | Apr. 7\, 21 | May 5
URL:https://www.palefirebrewing.com/event/madison-jazz-collective/2026-04-21/
LOCATION:Pale Fire Brewing Co. – Harrisonburg\, 217 S Liberty St Ste 105\, Harrisonburg\, VA\, 22801\, United States
CATEGORIES:Harrisonburg,Live Music
ATTACH;FMTTYPE=image/png:https://www.palefirebrewing.com/wp-content/uploads/2025/10/Madison-Jazz-Collective.avif
ORGANIZER;CN="Pale Fire Brewing Co.":MAILTO:hello@palefirebrewing.com
END:VEVENT
END:VCALENDAR